BEGIN:VCALENDAR
VERSION:2.0
PRODID:-//NMUCA - ECPv6.15.17.1//NONSGML v1.0//EN
CALSCALE:GREGORIAN
METHOD:PUBLISH
X-WR-CALNAME:NMUCA
X-ORIGINAL-URL:https://nmuca.org
X-WR-CALDESC:Events for NMUCA
REFRESH-INTERVAL;VALUE=DURATION:PT1H
X-Robots-Tag:noindex
X-PUBLISHED-TTL:PT1H
BEGIN:VTIMEZONE
TZID:UTC
BEGIN:STANDARD
TZOFFSETFROM:+0000
TZOFFSETTO:+0000
TZNAME:UTC
DTSTART:20250101T000000
END:STANDARD
END:VTIMEZONE
BEGIN:VEVENT
DTSTART;TZID=UTC:20260424T070000
DTEND;TZID=UTC:20260424T130000
DTSTAMP:20260421T141732
CREATED:20260127T172956Z
LAST-MODIFIED:20260402T165355Z
UID:1883-1777014000-1777035600@nmuca.org
SUMMARY:Recreational Clay Shoot
DESCRIPTION:Event is April 24th \n\n\n\nSign your team up today!  \n\n\n\nRegistration is now open for regular teams and sponsors.
URL:https://nmuca.org/event/recreational-clay-shoot
END:VEVENT
BEGIN:VEVENT
DTSTART;TZID=UTC:20260506T090000
DTEND;TZID=UTC:20260506T103000
DTSTAMP:20260421T141732
CREATED:20260409T200023Z
LAST-MODIFIED:20260420T190931Z
UID:2042-1778058000-1778063400@nmuca.org
SUMMARY:OSHA Citation Response
DESCRIPTION:REAL-WORLD TRAINING Based on real construction citations including fall protection\, scaffolds\, training gaps\, and competent person requirements. WHY THIS MATTERS OSHA inspections can happen without warning even from a drive-by observation. Your response may determine the outcome. WHAT YOU WILL LEARN OSHA citation process Immediate response actions • Defensible abatement plans Penalty reduction strategies Citation grouping leverage WHAT YOU WILL RECEIVE • Abatement templates • Informal conference strategy • Inspection checklists • Training outlines
URL:https://nmuca.org/event/osha-citation-response
ATTACH;FMTTYPE=image/jpeg:https://nmuca.org/wp-content/uploads/2026/04/OSHA-Inspections.jpg
END:VEVENT
BEGIN:VEVENT
DTSTART;TZID=UTC:20260507T073000
DTEND;TZID=UTC:20260507T100000
DTSTAMP:20260421T141732
CREATED:20260331T183618Z
LAST-MODIFIED:20260420T190835Z
UID:2004-1778139000-1778148000@nmuca.org
SUMMARY:NM Construction Safety Coalition
DESCRIPTION:Critical Incident Stress Debriefing Having a plan in place after the dust starts to setting from a tragic incident. Presenter: James Magoffe; Director of Safety at Yearout Mechanical\, LLC Having the necessary resources available to assist with a potential mental health aftermath\, having a plan of action including things like counselors & quick access to resources. Learn about what to do if an employee wants to harm themselves or others.
URL:https://nmuca.org/event/nm-construction-safety-coalition
ATTACH;FMTTYPE=image/jpeg:https://nmuca.org/wp-content/uploads/2026/03/CSC-May-2026.jpg
END:VEVENT
BEGIN:VEVENT
DTSTART;TZID=UTC:20260521T163000
DTEND;TZID=UTC:20260521T180000
DTSTAMP:20260421T141732
CREATED:20260402T194324Z
LAST-MODIFIED:20260420T190748Z
UID:2037-1779381000-1779386400@nmuca.org
SUMMARY:NMUCA Happy Hour
DESCRIPTION:Join us for our upcoming Happy Hour on May 21\, 2026. This is a great networking event for NMUCA members that offers a relaxed atmosphere to meet\, greet\, and hang out with friends and colleagues. NMUCA covers food and beverages for this event. There is no charge to attend but we do appreciate an RSVP. Event is sponsored by Baker Utility Supply – The largest family owned and operated utility supply business in New Mexico for over 50 years.
URL:https://nmuca.org/event/nmuca-happy-hour
ATTACH;FMTTYPE=image/png:https://nmuca.org/wp-content/uploads/2026/04/Happy-Hour-05-21-2026.png
END:VEVENT
BEGIN:VEVENT
DTSTART;TZID=UTC:20260527T110000
DTEND;TZID=UTC:20260527T130000
DTSTAMP:20260421T141732
CREATED:20260330T194146Z
LAST-MODIFIED:20260420T190557Z
UID:1999-1779879600-1779886800@nmuca.org
SUMMARY:Lunch & Learn - NM One Call Law
DESCRIPTION:Lunch and Learn – NM One Call Law and Law Changes  \n\n\n\nNM Excavation Law governs the process of “movement or removal of  earth\, rock\, or other material from the ground using tools\, equipment\, or explosives”. These laws aim to ensure safety for workers\, prevent damage to underground utilities\, and protect the public from hazards associated with excavation. This class is recommended for all individuals performing excavation as well as those who support excavation operations.  
URL:https://nmuca.org/event/1999
ATTACH;FMTTYPE=image/png:https://nmuca.org/wp-content/uploads/2026/03/NM-One-Call-Law-Lunch-and-Learn-05-27-2026.png
END:VEVENT
BEGIN:VEVENT
DTSTART;TZID=UTC:20260618T110000
DTEND;TZID=UTC:20260618T130000
DTSTAMP:20260421T141732
CREATED:20260415T211921Z
LAST-MODIFIED:20260420T191101Z
UID:2046-1781780400-1781787600@nmuca.org
SUMMARY:NMUCA Membership Meeting
DESCRIPTION:Zia Partnership Presentations \n\n\n\nNMUCA Safety Awards \n\n\n\nNMUCA Scholarships \n\n\n\nAssociation Announcements
URL:https://nmuca.org/event/nmuca-membership-meeting-2
ATTACH;FMTTYPE=image/jpeg:https://nmuca.org/wp-content/uploads/2026/04/June-18-2026-Membership-Meeting.jpg
END:VEVENT
BEGIN:VEVENT
DTSTART;TZID=UTC:20260620T183500
DTEND;TZID=UTC:20260620T210000
DTSTAMP:20260421T141732
CREATED:20260420T180329Z
LAST-MODIFIED:20260420T191345Z
UID:2050-1781980500-1781989200@nmuca.org
SUMMARY:Construction Night at Isotopes Park
DESCRIPTION:All-you-can-eat buffet Seats at 3rd base (shaded) Exclusive picnic area Fútbol Jerseys (1st 3K Fans) Fireworks \n\n\n\n Mariachi Night Door Prizes/Giveaways Beer Gates open at 5:35pm Games starts at 6:35pm
URL:https://nmuca.org/event/construction-night-at-isotopes-park
ATTACH;FMTTYPE=image/jpeg:https://nmuca.org/wp-content/uploads/2026/04/Flyer.jpg
END:VEVENT
END:VCALENDAR